Package: copa Version: 1.72.0 Command: E:\biocbuild\bbs-3.19-bioc\R\bin\R.exe CMD INSTALL copa StartedAt: 2024-10-16 16:02:23 -0400 (Wed, 16 Oct 2024) EndedAt: 2024-10-16 16:02:36 -0400 (Wed, 16 Oct 2024) EllapsedTime: 12.9 seconds RetCode: 0 Status: OK