Package: corral Version: 1.14.0 Command: /Library/Frameworks/R.framework/Resources/bin/R CMD build --keep-empty-dirs --no-resave-data corral StartedAt: 2024-10-16 22:10:40 -0400 (Wed, 16 Oct 2024) EndedAt: 2024-10-16 22:28:29 -0400 (Wed, 16 Oct 2024) EllapsedTime: 1069.3 seconds RetCode: 0 Status: OK PackageFile: corral_1.14.0.tar.gz PackageFileSize: 2.058 MiB