Package: corral Version: 1.14.0 Command: rm -rf corral.buildbin-libdir && mkdir corral.buildbin-libdir && /Users/biocbuild/BBS/utils/build-universal.sh corral_1.14.0.tar.gz /Library/Frameworks/R.framework/Resources/bin/R corral.buildbin-libdir StartedAt: 2024-10-17 15:55:18 -0400 (Thu, 17 Oct 2024) EndedAt: 2024-10-17 15:56:24 -0400 (Thu, 17 Oct 2024) EllapsedTime: 65.8 seconds RetCode: 0 Status: OK PackageFile: corral_1.14.0.tgz PackageFileSize: 1.804 MiB