Package: corral Version: 1.14.0 Command: /Library/Frameworks/R.framework/Resources/bin/R CMD build --keep-empty-dirs --no-resave-data corral StartedAt: 2024-10-16 18:14:37 -0400 (Wed, 16 Oct 2024) EndedAt: 2024-10-16 18:48:23 -0400 (Wed, 16 Oct 2024) EllapsedTime: 2026.3 seconds RetCode: 0 Status: OK PackageFile: corral_1.14.0.tar.gz PackageFileSize: 2.063 MiB