Package: corral Version: 1.14.0 Command: /Library/Frameworks/R.framework/Resources/bin/R CMD INSTALL corral StartedAt: 2024-10-16 15:21:33 -0400 (Wed, 16 Oct 2024) EndedAt: 2024-10-16 15:22:32 -0400 (Wed, 16 Oct 2024) EllapsedTime: 59.2 seconds RetCode: 0 Status: OK