Package: corral Version: 1.14.0 Command: /home/biocbuild/bbs-3.19-bioc/R/bin/R CMD check --install=check:corral.install-out.txt --library=/home/biocbuild/bbs-3.19-bioc/R/site-library --timings corral_1.14.0.tar.gz StartedAt: 2024-10-16 23:07:35 -0400 (Wed, 16 Oct 2024) EndedAt: 2024-10-16 23:27:35 -0400 (Wed, 16 Oct 2024) EllapsedTime: 1199.5 seconds RetCode: 0 Status: OK CheckDir: corral.Rcheck Warnings: 0