Package: cosmiq Version: 1.38.0 Maintainer: David Fischer MaintainerEmail: dajofischer at googlemail.com git_url: https://git.bioconductor.org/packages/cosmiq git_branch: RELEASE_3_19 git_last_commit: ff33207 git_last_commit_date: 2024-04-30 10:36:53 -0400 (Tue, 30 Apr 2024)