Package: cosmiq Version: 1.38.0 Command: rm -rf cosmiq.buildbin-libdir && mkdir cosmiq.buildbin-libdir && /Users/biocbuild/BBS/utils/build-universal.sh cosmiq_1.38.0.tar.gz /Library/Frameworks/R.framework/Resources/bin/R cosmiq.buildbin-libdir StartedAt: 2024-07-05 15:07:09 -0400 (Fri, 05 Jul 2024) EndedAt: 2024-07-05 15:07:10 -0400 (Fri, 05 Jul 2024) EllapsedTime: 1.2 seconds RetCode: 1 Status: ERROR PackageFile: None PackageFileSize: NA