Package: cosmiq Version: 1.38.0 Command: /Library/Frameworks/R.framework/Resources/bin/R CMD INSTALL cosmiq StartedAt: 2024-10-16 17:39:49 -0400 (Wed, 16 Oct 2024) EndedAt: 2024-10-16 17:39:50 -0400 (Wed, 16 Oct 2024) EllapsedTime: 1.2 seconds RetCode: 1 Status: ERROR