Package: cpvSNP Version: 1.36.0 Maintainer: Caitlin McHugh MaintainerEmail: mchughc at uw.edu git_url: https://git.bioconductor.org/packages/cpvSNP git_branch: RELEASE_3_19 git_last_commit: 0e7cf24 git_last_commit_date: 2024-04-30 10:40:48 -0400 (Tue, 30 Apr 2024)