Package: cpvSNP Version: 1.36.0 Command: chmod a+r cpvSNP -R && F:\biocbuild\bbs-3.19-bioc\R\bin\R.exe CMD build --keep-empty-dirs --no-resave-data cpvSNP StartedAt: 2024-06-26 18:02:39 -0400 (Wed, 26 Jun 2024) EndedAt: 2024-06-26 18:04:42 -0400 (Wed, 26 Jun 2024) EllapsedTime: 122.4 seconds RetCode: 0 Status: OK PackageFile: cpvSNP_1.36.0.tar.gz PackageFileSize: 1.98 MiB