Package: crisprBowtie Version: 1.8.0 Command: rm -rf crisprBowtie.buildbin-libdir && mkdir crisprBowtie.buildbin-libdir && /Users/biocbuild/BBS/utils/build-universal.sh crisprBowtie_1.8.0.tar.gz /Library/Frameworks/R.framework/Resources/bin/R crisprBowtie.buildbin-libdir StartedAt: 2024-10-18 17:58:20 -0400 (Fri, 18 Oct 2024) EndedAt: 2024-10-18 17:59:08 -0400 (Fri, 18 Oct 2024) EllapsedTime: 47.8 seconds RetCode: 0 Status: OK PackageFile: crisprBowtie_1.8.0.tgz PackageFileSize: 335.3 KiB