Package: crisprBowtie Version: 1.8.0 Command: /Library/Frameworks/R.framework/Resources/bin/R CMD build --keep-empty-dirs --no-resave-data crisprBowtie StartedAt: 2024-10-16 22:21:40 -0400 (Wed, 16 Oct 2024) EndedAt: 2024-10-16 22:22:38 -0400 (Wed, 16 Oct 2024) EllapsedTime: 57.4 seconds RetCode: 0 Status: OK PackageFile: crisprBowtie_1.8.0.tar.gz PackageFileSize: 319.3 KiB