Package: crisprBowtie Version: 1.8.0 Command: /Library/Frameworks/R.framework/Resources/bin/R CMD INSTALL crisprBowtie StartedAt: 2024-10-16 16:42:46 -0400 (Wed, 16 Oct 2024) EndedAt: 2024-10-16 16:43:25 -0400 (Wed, 16 Oct 2024) EllapsedTime: 38.7 seconds RetCode: 0 Status: OK