Package: crisprBowtie Version: 1.8.0 Command: rm -rf crisprBowtie.buildbin-libdir && mkdir crisprBowtie.buildbin-libdir && /Users/biocbuild/BBS/utils/build-universal.sh crisprBowtie_1.8.0.tar.gz /Library/Frameworks/R.framework/Resources/bin/R crisprBowtie.buildbin-libdir StartedAt: 2024-06-11 10:44:50 -0400 (Tue, 11 Jun 2024) EndedAt: 2024-06-11 10:45:55 -0400 (Tue, 11 Jun 2024) EllapsedTime: 65.5 seconds RetCode: 0 Status: OK PackageFile: crisprBowtie_1.8.0.tgz PackageFileSize: 335.1 KiB