Package: crisprBowtie Version: 1.8.0 Command: /Library/Frameworks/R.framework/Resources/bin/R CMD check --install=check:crisprBowtie.install-out.txt --library=/Library/Frameworks/R.framework/Resources/library --no-vignettes --timings crisprBowtie_1.8.0.tar.gz StartedAt: 2024-06-10 12:00:08 -0400 (Mon, 10 Jun 2024) EndedAt: 2024-06-10 12:07:41 -0400 (Mon, 10 Jun 2024) EllapsedTime: 452.6 seconds RetCode: 0 Status: OK CheckDir: crisprBowtie.Rcheck Warnings: 0