Package: crisprBowtie Version: 1.8.0 Command: /Library/Frameworks/R.framework/Resources/bin/R CMD INSTALL crisprBowtie StartedAt: 2024-06-09 15:54:13 -0400 (Sun, 09 Jun 2024) EndedAt: 2024-06-09 15:55:00 -0400 (Sun, 09 Jun 2024) EllapsedTime: 47.4 seconds RetCode: 0 Status: OK