Package: crisprBowtie Version: 1.8.0 Command: chmod a+r crisprBowtie -R && F:\biocbuild\bbs-3.19-bioc\R\bin\R.exe CMD build --keep-empty-dirs --no-resave-data crisprBowtie StartedAt: 2024-06-26 18:03:12 -0400 (Wed, 26 Jun 2024) EndedAt: 2024-06-26 18:04:09 -0400 (Wed, 26 Jun 2024) EllapsedTime: 57.2 seconds RetCode: 0 Status: OK PackageFile: crisprBowtie_1.8.0.tar.gz PackageFileSize: 319.5 KiB