Package: crisprBowtie Version: 1.8.0 Command: chmod a+r crisprBowtie -R && E:\biocbuild\bbs-3.19-bioc\R\bin\R.exe CMD build --keep-empty-dirs --no-resave-data crisprBowtie StartedAt: 2024-10-16 18:25:37 -0400 (Wed, 16 Oct 2024) EndedAt: 2024-10-16 18:26:36 -0400 (Wed, 16 Oct 2024) EllapsedTime: 59.8 seconds RetCode: 0 Status: OK PackageFile: crisprBowtie_1.8.0.tar.gz PackageFileSize: 319.5 KiB