Package: crisprBowtie Version: 1.8.0 Command: E:\biocbuild\bbs-3.19-bioc\R\bin\R.exe CMD INSTALL crisprBowtie StartedAt: 2024-10-16 16:30:39 -0400 (Wed, 16 Oct 2024) EndedAt: 2024-10-16 16:31:15 -0400 (Wed, 16 Oct 2024) EllapsedTime: 36.6 seconds RetCode: 0 Status: OK