Package: crisprVerse Version: 1.6.0 Command: /Library/Frameworks/R.framework/Resources/bin/R CMD build --keep-empty-dirs --no-resave-data crisprVerse StartedAt: 2024-10-16 22:26:40 -0400 (Wed, 16 Oct 2024) EndedAt: 2024-10-16 22:27:26 -0400 (Wed, 16 Oct 2024) EllapsedTime: 45.8 seconds RetCode: 0 Status: OK PackageFile: crisprVerse_1.6.0.tar.gz PackageFileSize: 295.9 KiB