Package: crisprVerse Version: 1.6.0 Command: /Library/Frameworks/R.framework/Resources/bin/R CMD INSTALL crisprVerse StartedAt: 2024-10-16 17:22:11 -0400 (Wed, 16 Oct 2024) EndedAt: 2024-10-16 17:23:11 -0400 (Wed, 16 Oct 2024) EllapsedTime: 60.2 seconds RetCode: 0 Status: OK