Package: crisprVerse Version: 1.6.0 Command: /Library/Frameworks/R.framework/Resources/bin/R CMD build --keep-empty-dirs --no-resave-data crisprVerse StartedAt: 2024-10-16 18:19:33 -0400 (Wed, 16 Oct 2024) EndedAt: 2024-10-16 18:22:08 -0400 (Wed, 16 Oct 2024) EllapsedTime: 155.5 seconds RetCode: 0 Status: OK PackageFile: crisprVerse_1.6.0.tar.gz PackageFileSize: 295.9 KiB