Package: crisprVerse Version: 1.6.0 Command: rm -rf crisprVerse.buildbin-libdir && mkdir crisprVerse.buildbin-libdir && E:\biocbuild\bbs-3.19-bioc\R\bin\R.exe CMD INSTALL --build --library=crisprVerse.buildbin-libdir crisprVerse_1.6.0.tar.gz StartedAt: 2024-10-17 07:36:36 -0400 (Thu, 17 Oct 2024) EndedAt: 2024-10-17 07:37:33 -0400 (Thu, 17 Oct 2024) EllapsedTime: 56.6 seconds RetCode: 0 Status: OK PackageFile: crisprVerse_1.6.0.zip PackageFileSize: 313.2 KiB