Package: crisprVerse Version: 1.6.0 Command: chmod a+r crisprVerse -R && E:\biocbuild\bbs-3.19-bioc\R\bin\R.exe CMD build --keep-empty-dirs --no-resave-data crisprVerse StartedAt: 2024-10-16 18:26:37 -0400 (Wed, 16 Oct 2024) EndedAt: 2024-10-16 18:28:01 -0400 (Wed, 16 Oct 2024) EllapsedTime: 83.2 seconds RetCode: 0 Status: OK PackageFile: crisprVerse_1.6.0.tar.gz PackageFileSize: 296.1 KiB