Package: crisprVerse Version: 1.6.0 Command: E:\biocbuild\bbs-3.19-bioc\R\bin\R.exe CMD check --no-multiarch --install=check:crisprVerse.install-out.txt --library=E:\biocbuild\bbs-3.19-bioc\R\library --no-vignettes --timings crisprVerse_1.6.0.tar.gz StartedAt: 2024-10-17 00:24:48 -0400 (Thu, 17 Oct 2024) EndedAt: 2024-10-17 00:31:30 -0400 (Thu, 17 Oct 2024) EllapsedTime: 401.3 seconds RetCode: 0 Status: OK CheckDir: crisprVerse.Rcheck Warnings: 0