Package: crisprVerse Version: 1.6.0 Command: E:\biocbuild\bbs-3.19-bioc\R\bin\R.exe CMD INSTALL crisprVerse StartedAt: 2024-10-16 16:48:55 -0400 (Wed, 16 Oct 2024) EndedAt: 2024-10-16 16:49:54 -0400 (Wed, 16 Oct 2024) EllapsedTime: 59.3 seconds RetCode: 0 Status: OK