Package: csaw Version: 1.38.0 Command: rm -rf csaw.buildbin-libdir && mkdir csaw.buildbin-libdir && /Users/biocbuild/BBS/utils/build-universal.sh csaw_1.38.0.tar.gz /Library/Frameworks/R.framework/Resources/bin/R csaw.buildbin-libdir StartedAt: 2024-06-11 10:46:59 -0400 (Tue, 11 Jun 2024) EndedAt: 2024-06-11 10:49:40 -0400 (Tue, 11 Jun 2024) EllapsedTime: 160.8 seconds RetCode: 0 Status: OK PackageFile: csaw_1.38.0.tgz PackageFileSize: 1.266 MiB