Package: ctc Version: 1.78.0 Command: rm -rf ctc.buildbin-libdir && mkdir ctc.buildbin-libdir && /Users/biocbuild/BBS/utils/build-universal.sh ctc_1.78.0.tar.gz /Library/Frameworks/R.framework/Resources/bin/R ctc.buildbin-libdir StartedAt: 2024-10-18 18:01:18 -0400 (Fri, 18 Oct 2024) EndedAt: 2024-10-18 18:01:22 -0400 (Fri, 18 Oct 2024) EllapsedTime: 4.5 seconds RetCode: 0 Status: OK PackageFile: ctc_1.78.0.tgz PackageFileSize: 317.7 KiB