Package: ctc Version: 1.78.0 Command: /home/biocbuild/R/R-beta-2024-04-15_r86425/bin/R CMD build --keep-empty-dirs --no-resave-data ctc StartedAt: 2024-05-08 23:38:10 -0000 (Wed, 08 May 2024) EndedAt: 2024-05-08 23:38:15 -0000 (Wed, 08 May 2024) EllapsedTime: 5.0 seconds RetCode: 0 Status: OK PackageFile: ctc_1.78.0.tar.gz PackageFileSize: 262.3 KiB