Package: ctc Version: 1.78.0 Command: rm -rf ctc.buildbin-libdir && mkdir ctc.buildbin-libdir && F:\biocbuild\bbs-3.19-bioc\R\bin\R.exe CMD INSTALL --build --library=ctc.buildbin-libdir ctc_1.78.0.tar.gz StartedAt: 2024-06-27 08:03:46 -0400 (Thu, 27 Jun 2024) EndedAt: 2024-06-27 08:03:51 -0400 (Thu, 27 Jun 2024) EllapsedTime: 4.8 seconds RetCode: 0 Status: OK PackageFile: ctc_1.78.0.zip PackageFileSize: 140.4 KiB