Package: ctc Version: 1.78.0 Command: rm -rf ctc.buildbin-libdir && mkdir ctc.buildbin-libdir && E:\biocbuild\bbs-3.19-bioc\R\bin\R.exe CMD INSTALL --build --library=ctc.buildbin-libdir ctc_1.78.0.tar.gz StartedAt: 2024-10-17 07:37:05 -0400 (Thu, 17 Oct 2024) EndedAt: 2024-10-17 07:37:11 -0400 (Thu, 17 Oct 2024) EllapsedTime: 6.1 seconds RetCode: 0 Status: OK PackageFile: ctc_1.78.0.zip PackageFileSize: 141 KiB