Package: ctsGE Version: 1.30.0 Command: /Library/Frameworks/R.framework/Resources/bin/R CMD build --keep-empty-dirs --no-resave-data ctsGE StartedAt: 2024-06-09 16:21:25 -0400 (Sun, 09 Jun 2024) EndedAt: 2024-06-09 16:21:49 -0400 (Sun, 09 Jun 2024) EllapsedTime: 23.6 seconds RetCode: 0 Status: OK PackageFile: ctsGE_1.30.0.tar.gz PackageFileSize: 1.132 MiB