Package: ctsGE Version: 1.30.0 Command: /home/biocbuild/bbs-3.19-bioc/R/bin/R CMD build --keep-empty-dirs --no-resave-data ctsGE StartedAt: 2024-10-16 18:01:41 -0400 (Wed, 16 Oct 2024) EndedAt: 2024-10-16 18:02:01 -0400 (Wed, 16 Oct 2024) EllapsedTime: 20.0 seconds RetCode: 0 Status: OK PackageFile: ctsGE_1.30.0.tar.gz PackageFileSize: 1.066 MiB