Package: cummeRbund Version: 2.46.0 Command: /Library/Frameworks/R.framework/Resources/bin/R CMD build --keep-empty-dirs --no-resave-data cummeRbund StartedAt: 2024-10-16 22:32:04 -0400 (Wed, 16 Oct 2024) EndedAt: 2024-10-16 22:34:22 -0400 (Wed, 16 Oct 2024) EllapsedTime: 138.0 seconds RetCode: 0 Status: OK PackageFile: cummeRbund_2.46.0.tar.gz PackageFileSize: 2.608 MiB