Package: cummeRbund Version: 2.46.0 Command: /Library/Frameworks/R.framework/Resources/bin/R CMD INSTALL cummeRbund StartedAt: 2024-06-09 16:28:00 -0400 (Sun, 09 Jun 2024) EndedAt: 2024-06-09 16:29:28 -0400 (Sun, 09 Jun 2024) EllapsedTime: 88.0 seconds RetCode: 0 Status: OK