Package: cummeRbund Version: 2.46.0 Command: /Library/Frameworks/R.framework/Resources/bin/R CMD build --keep-empty-dirs --no-resave-data cummeRbund StartedAt: 2024-06-09 16:21:29 -0400 (Sun, 09 Jun 2024) EndedAt: 2024-06-09 16:23:30 -0400 (Sun, 09 Jun 2024) EllapsedTime: 121.9 seconds RetCode: 0 Status: OK PackageFile: cummeRbund_2.46.0.tar.gz PackageFileSize: 2.607 MiB