Package: cummeRbund Version: 2.46.0 Command: /Library/Frameworks/R.framework/Resources/bin/R CMD INSTALL cummeRbund StartedAt: 2024-06-09 15:27:18 -0400 (Sun, 09 Jun 2024) EndedAt: 2024-06-09 15:28:35 -0400 (Sun, 09 Jun 2024) EllapsedTime: 77.3 seconds RetCode: 0 Status: OK