Package: cummeRbund Version: 2.46.0 Command: rm -rf cummeRbund.buildbin-libdir && mkdir cummeRbund.buildbin-libdir && F:\biocbuild\bbs-3.19-bioc\R\bin\R.exe CMD INSTALL --build --library=cummeRbund.buildbin-libdir cummeRbund_2.46.0.tar.gz StartedAt: 2024-06-27 08:04:01 -0400 (Thu, 27 Jun 2024) EndedAt: 2024-06-27 08:05:35 -0400 (Thu, 27 Jun 2024) EllapsedTime: 94.2 seconds RetCode: 0 Status: OK PackageFile: cummeRbund_2.46.0.zip PackageFileSize: 3.308 MiB