Package: cummeRbund Version: 2.46.0 Command: chmod a+r cummeRbund -R && F:\biocbuild\bbs-3.19-bioc\R\bin\R.exe CMD build --keep-empty-dirs --no-resave-data cummeRbund StartedAt: 2024-06-26 18:06:00 -0400 (Wed, 26 Jun 2024) EndedAt: 2024-06-26 18:08:31 -0400 (Wed, 26 Jun 2024) EllapsedTime: 151.3 seconds RetCode: 0 Status: OK PackageFile: cummeRbund_2.46.0.tar.gz PackageFileSize: 2.338 MiB