Package: cummeRbund Version: 2.46.0 Command: rm -rf cummeRbund.buildbin-libdir && mkdir cummeRbund.buildbin-libdir && E:\biocbuild\bbs-3.19-bioc\R\bin\R.exe CMD INSTALL --build --library=cummeRbund.buildbin-libdir cummeRbund_2.46.0.tar.gz StartedAt: 2024-10-17 07:37:26 -0400 (Thu, 17 Oct 2024) EndedAt: 2024-10-17 07:39:59 -0400 (Thu, 17 Oct 2024) EllapsedTime: 153.0 seconds RetCode: 0 Status: OK PackageFile: cummeRbund_2.46.0.zip PackageFileSize: 3.308 MiB