Package: cummeRbund Version: 2.46.0 Command: chmod a+r cummeRbund -R && E:\biocbuild\bbs-3.19-bioc\R\bin\R.exe CMD build --keep-empty-dirs --no-resave-data cummeRbund StartedAt: 2024-10-16 18:28:03 -0400 (Wed, 16 Oct 2024) EndedAt: 2024-10-16 18:30:35 -0400 (Wed, 16 Oct 2024) EllapsedTime: 152.7 seconds RetCode: 0 Status: OK PackageFile: cummeRbund_2.46.0.tar.gz PackageFileSize: 2.338 MiB