Package: customProDB Version: 1.44.0 Command: /Library/Frameworks/R.framework/Resources/bin/R CMD INSTALL customProDB StartedAt: 2024-06-09 15:24:30 -0400 (Sun, 09 Jun 2024) EndedAt: 2024-06-09 15:25:27 -0400 (Sun, 09 Jun 2024) EllapsedTime: 57.1 seconds RetCode: 0 Status: OK