Package: customProDB Version: 1.44.0 Command: rm -rf customProDB.buildbin-libdir && mkdir customProDB.buildbin-libdir && /Users/biocbuild/BBS/utils/build-universal.sh customProDB_1.44.0.tar.gz /Library/Frameworks/R.framework/Resources/bin/R customProDB.buildbin-libdir StartedAt: 2024-10-17 15:57:26 -0400 (Thu, 17 Oct 2024) EndedAt: 2024-10-17 15:59:07 -0400 (Thu, 17 Oct 2024) EllapsedTime: 101.0 seconds RetCode: 0 Status: OK PackageFile: customProDB_1.44.0.tgz PackageFileSize: 717.9 KiB