Package: customProDB Version: 1.44.0 Command: /Library/Frameworks/R.framework/Resources/bin/R CMD build --keep-empty-dirs --no-resave-data customProDB StartedAt: 2024-10-16 18:22:35 -0400 (Wed, 16 Oct 2024) EndedAt: 2024-10-16 18:25:43 -0400 (Wed, 16 Oct 2024) EllapsedTime: 187.6 seconds RetCode: 0 Status: OK PackageFile: customProDB_1.44.0.tar.gz PackageFileSize: 540.3 KiB