Package: customProDB Version: 1.44.0 Command: /Library/Frameworks/R.framework/Resources/bin/R CMD check --install=check:customProDB.install-out.txt --library=/Library/Frameworks/R.framework/Resources/library --no-vignettes --timings customProDB_1.44.0.tar.gz StartedAt: 2024-10-17 03:38:28 -0400 (Thu, 17 Oct 2024) EndedAt: 2024-10-17 03:50:59 -0400 (Thu, 17 Oct 2024) EllapsedTime: 751.4 seconds RetCode: 0 Status: WARNINGS CheckDir: customProDB.Rcheck Warnings: 1