Package: customProDB Version: 1.44.0 Command: rm -rf customProDB.buildbin-libdir && mkdir customProDB.buildbin-libdir && F:\biocbuild\bbs-3.19-bioc\R\bin\R.exe CMD INSTALL --build --library=customProDB.buildbin-libdir customProDB_1.44.0.tar.gz StartedAt: 2024-06-27 08:04:07 -0400 (Thu, 27 Jun 2024) EndedAt: 2024-06-27 08:05:07 -0400 (Thu, 27 Jun 2024) EllapsedTime: 60.4 seconds RetCode: 0 Status: OK PackageFile: customProDB_1.44.0.zip PackageFileSize: 729.8 KiB