Package: customProDB Version: 1.44.0 Command: E:\biocbuild\bbs-3.19-bioc\R\bin\R.exe CMD INSTALL customProDB StartedAt: 2024-10-16 16:41:03 -0400 (Wed, 16 Oct 2024) EndedAt: 2024-10-16 16:42:08 -0400 (Wed, 16 Oct 2024) EllapsedTime: 65.8 seconds RetCode: 0 Status: OK