Package: cydar Version: 1.28.0 Command: rm -rf cydar.buildbin-libdir && mkdir cydar.buildbin-libdir && /Users/biocbuild/BBS/utils/build-universal.sh cydar_1.28.0.tar.gz /Library/Frameworks/R.framework/Resources/bin/R cydar.buildbin-libdir StartedAt: 2024-10-18 18:02:40 -0400 (Fri, 18 Oct 2024) EndedAt: 2024-10-18 18:03:45 -0400 (Fri, 18 Oct 2024) EllapsedTime: 64.9 seconds RetCode: 0 Status: OK PackageFile: cydar_1.28.0.tgz PackageFileSize: 1.461 MiB