Package: cydar Version: 1.28.0 Command: /Library/Frameworks/R.framework/Resources/bin/R CMD build --keep-empty-dirs --no-resave-data cydar StartedAt: 2024-10-16 22:34:50 -0400 (Wed, 16 Oct 2024) EndedAt: 2024-10-16 22:36:10 -0400 (Wed, 16 Oct 2024) EllapsedTime: 80.2 seconds RetCode: 0 Status: OK PackageFile: cydar_1.28.0.tar.gz PackageFileSize: 743.8 KiB